BEGIN:VCALENDAR
VERSION:2.0
PRODID:-//CiviCRM//NONSGML CiviEvent iCal//EN
X-WR-TIMEZONE:America/New_York
METHOD:PUBLISH
BEGIN:VTIMEZONE
TZID:America/New_York
BEGIN:DAYLIGHT
TZOFFSETFROM:-0400
TZOFFSETTO:-0400
TZNAME:EDT
DTSTART:20260527T140000
END:DAYLIGHT
END:VTIMEZONE
BEGIN:VEVENT
UID:CiviCRM_EventID_117_5c71a7aee617b6d6de5a080b211c3cad@voicefoundation.org
SUMMARY:2026 Annual Symposium: All Sessions
CATEGORIES:Symposium
CALSCALE:GREGORIAN
DTSTAMP;TZID=America/New_York:20260527T140000
DTSTART;TZID=America/New_York:20260527T140000
DTEND;TZID=America/New_York:20260531T120000
LOCATION:The Westin Philadelphia\n At Liberty Place\n 99 So
 uth 17th Street\n Philadelphia\, PA 19103\n United
  States\n 
URL:https://voicefoundation.org/crm/event/info/?reset=1&id=117
END:VEVENT
END:VCALENDAR
